BEGIN:VCALENDAR
VERSION:2.0
PRODID:icalendar-ruby
CALSCALE:GREGORIAN
METHOD:PUBLISH
BEGIN:VEVENT
DTSTAMP:20260421T095107Z
UID:9-453044@wintervillefwbc.com
DTSTART:20260726T143000Z
DTEND:20260726T160000Z
CLASS:PUBLIC
CREATED:20260420T200222
DESCRIPTION:Join us each Sunday as we praise God and hear our weekly messag
 e. You can visit us in person or watch online on our Facebook or YouTube p
 ages.
LAST-MODIFIED:20260420T200222
LOCATION:489 Cooper Street\, Winterville\, NC 28590
SUMMARY:Morning Worship Service
URL;VALUE=URI:https://www.wintervillefwbc.com/events/morning-worship-servic
 e--9/2026-07-26
ATTACH;FILENAME=Pastor-Isenberg3.jpg;FMTTYPE=image/jpeg:https://dq5pwpg1q8r
 u0.cloudfront.net/2024/03/31/20/53/33/14c26ba1-bac5-4337-b9a0-bd91cbf3893d
 /Pastor-Isenberg3.jpg
ATTACH;FILENAME=Pastor-Isenberg3.jpg;FMTTYPE=image/jpeg:https://dq5pwpg1q8r
 u0.cloudfront.net/2024/04/30/02/02/39/51e67a54-e906-4137-bc58-65c9e63f5c8f
 /Pastor-Isenberg3.jpg
END:VEVENT
END:VCALENDAR
